BEGIN:VCALENDAR
VERSION:2.0
PRODID:https://www.kufer.de/kuferweb / DE
METHOD:PUBLISH
CALSCALE:GREGORIAN
X-WR-TIMEZONE:Europe/Berlin
BEGIN:VTIMEZONE
TZID:Europe/Berlin
X-LIC-LOCATION:Europe/Berlin
BEGIN:DAYLIGHT
TZOFFSETFROM:+0100
TZOFFSETTO:+0200
TZNAME:CEST
DTSTART:19700329T020000
RRULE:FREQ=YEARLY;INTERVAL=1;BYDAY=-1SU;BYMONTH=3
END:DAYLIGHT
BEGIN:STANDARD
TZOFFSETFROM:+0200
TZOFFSETTO:+0100
TZNAME:CET
DTSTART:19701025T030000
RRULE:FREQ=YEARLY;INTERVAL=1;BYDAY=-1SU;BYMONTH=10
END:STANDARD
END:VTIMEZONE
BEGIN:VEVENT
DTSTAMP:20260424T185920
DTSTART;TZID=Europe/Berlin:20261010T100000
DTEND;TZID=Europe/Berlin:20261010T173000
UID:26-2.0201-20261010T100000@VHSVIERNHEIM
SUMMARY:Autobiografisches Schreiben - finde deine Geschichte, finde deine Stimme Mathias Kopetzki (26-2.0201) 
LOCATION:KulturScheune, Cafeteria, Satonévriplatz 1, 68519 Viernheim
END:VEVENT
BEGIN:VEVENT
DTSTAMP:20260424T185920
DTSTART;TZID=Europe/Berlin:20261011T100000
DTEND;TZID=Europe/Berlin:20261011T173000
UID:26-2.0201-20261011T100000@VHSVIERNHEIM
SUMMARY:Autobiografisches Schreiben - finde deine Geschichte, finde deine Stimme Mathias Kopetzki (26-2.0201) 
LOCATION:KulturScheune, Cafeteria, Satonévriplatz 1, 68519 Viernheim
END:VEVENT
END:VCALENDAR