BEGIN:VCALENDAR
VERSION:2.0
PRODID:https://www.kufer.de/kuferweb / DE
METHOD:PUBLISH
CALSCALE:GREGORIAN
X-WR-TIMEZONE:Europe/Berlin
BEGIN:VTIMEZONE
TZID:Europe/Berlin
X-LIC-LOCATION:Europe/Berlin
BEGIN:DAYLIGHT
TZOFFSETFROM:+0100
TZOFFSETTO:+0200
TZNAME:CEST
DTSTART:19700329T020000
RRULE:FREQ=YEARLY;INTERVAL=1;BYDAY=-1SU;BYMONTH=3
END:DAYLIGHT
BEGIN:STANDARD
TZOFFSETFROM:+0200
TZOFFSETTO:+0100
TZNAME:CET
DTSTART:19701025T030000
RRULE:FREQ=YEARLY;INTERVAL=1;BYDAY=-1SU;BYMONTH=10
END:STANDARD
END:VTIMEZONE
BEGIN:VEVENT
DTSTAMP:20260421T113631
DTSTART;TZID=Europe/Berlin:20260915T193000
DTEND;TZID=Europe/Berlin:20260915T210000
UID:26-3.0120-20260915T193000@VHSVIERNHEIM
SUMMARY:Fit und beweglich bleiben mit Yoga (26-3.0120) 
LOCATION:Bürgerhaus, Raum 11, Kreuzstraße 2-4, 68519 Viernheim
END:VEVENT
BEGIN:VEVENT
DTSTAMP:20260421T113631
DTSTART;TZID=Europe/Berlin:20260922T193000
DTEND;TZID=Europe/Berlin:20260922T210000
UID:26-3.0120-20260922T193000@VHSVIERNHEIM
SUMMARY:Fit und beweglich bleiben mit Yoga (26-3.0120) 
LOCATION:Bürgerhaus, Raum 11, Kreuzstraße 2-4, 68519 Viernheim
END:VEVENT
BEGIN:VEVENT
DTSTAMP:20260421T113631
DTSTART;TZID=Europe/Berlin:20260929T193000
DTEND;TZID=Europe/Berlin:20260929T210000
UID:26-3.0120-20260929T193000@VHSVIERNHEIM
SUMMARY:Fit und beweglich bleiben mit Yoga (26-3.0120) 
LOCATION:Bürgerhaus, Raum 11, Kreuzstraße 2-4, 68519 Viernheim
END:VEVENT
BEGIN:VEVENT
DTSTAMP:20260421T113631
DTSTART;TZID=Europe/Berlin:20261020T193000
DTEND;TZID=Europe/Berlin:20261020T210000
UID:26-3.0120-20261020T193000@VHSVIERNHEIM
SUMMARY:Fit und beweglich bleiben mit Yoga (26-3.0120) 
LOCATION:Bürgerhaus, Raum 11, Kreuzstraße 2-4, 68519 Viernheim
END:VEVENT
BEGIN:VEVENT
DTSTAMP:20260421T113631
DTSTART;TZID=Europe/Berlin:20261027T193000
DTEND;TZID=Europe/Berlin:20261027T210000
UID:26-3.0120-20261027T193000@VHSVIERNHEIM
SUMMARY:Fit und beweglich bleiben mit Yoga (26-3.0120) 
LOCATION:Bürgerhaus, Raum 11, Kreuzstraße 2-4, 68519 Viernheim
END:VEVENT
BEGIN:VEVENT
DTSTAMP:20260421T113631
DTSTART;TZID=Europe/Berlin:20261103T193000
DTEND;TZID=Europe/Berlin:20261103T210000
UID:26-3.0120-20261103T193000@VHSVIERNHEIM
SUMMARY:Fit und beweglich bleiben mit Yoga (26-3.0120) 
LOCATION:Bürgerhaus, Raum 11, Kreuzstraße 2-4, 68519 Viernheim
END:VEVENT
BEGIN:VEVENT
DTSTAMP:20260421T113631
DTSTART;TZID=Europe/Berlin:20261110T193000
DTEND;TZID=Europe/Berlin:20261110T210000
UID:26-3.0120-20261110T193000@VHSVIERNHEIM
SUMMARY:Fit und beweglich bleiben mit Yoga (26-3.0120) 
LOCATION:Bürgerhaus, Raum 11, Kreuzstraße 2-4, 68519 Viernheim
END:VEVENT
BEGIN:VEVENT
DTSTAMP:20260421T113631
DTSTART;TZID=Europe/Berlin:20261117T193000
DTEND;TZID=Europe/Berlin:20261117T210000
UID:26-3.0120-20261117T193000@VHSVIERNHEIM
SUMMARY:Fit und beweglich bleiben mit Yoga (26-3.0120) 
LOCATION:Bürgerhaus, Raum 11, Kreuzstraße 2-4, 68519 Viernheim
END:VEVENT
BEGIN:VEVENT
DTSTAMP:20260421T113631
DTSTART;TZID=Europe/Berlin:20261124T193000
DTEND;TZID=Europe/Berlin:20261124T210000
UID:26-3.0120-20261124T193000@VHSVIERNHEIM
SUMMARY:Fit und beweglich bleiben mit Yoga (26-3.0120) 
LOCATION:Bürgerhaus, Raum 11, Kreuzstraße 2-4, 68519 Viernheim
END:VEVENT
BEGIN:VEVENT
DTSTAMP:20260421T113631
DTSTART;TZID=Europe/Berlin:20261201T193000
DTEND;TZID=Europe/Berlin:20261201T210000
UID:26-3.0120-20261201T193000@VHSVIERNHEIM
SUMMARY:Fit und beweglich bleiben mit Yoga (26-3.0120) 
LOCATION:Bürgerhaus, Raum 11, Kreuzstraße 2-4, 68519 Viernheim
END:VEVENT
BEGIN:VEVENT
DTSTAMP:20260421T113631
DTSTART;TZID=Europe/Berlin:20261208T193000
DTEND;TZID=Europe/Berlin:20261208T210000
UID:26-3.0120-20261208T193000@VHSVIERNHEIM
SUMMARY:Fit und beweglich bleiben mit Yoga (26-3.0120) 
LOCATION:Bürgerhaus, Raum 11, Kreuzstraße 2-4, 68519 Viernheim
END:VEVENT
END:VCALENDAR