BEGIN:VCALENDAR
VERSION:2.0
PRODID:https://www.kufer.de/kuferweb / DE
METHOD:PUBLISH
CALSCALE:GREGORIAN
X-WR-TIMEZONE:Europe/Berlin
BEGIN:VTIMEZONE
TZID:Europe/Berlin
X-LIC-LOCATION:Europe/Berlin
BEGIN:DAYLIGHT
TZOFFSETFROM:+0100
TZOFFSETTO:+0200
TZNAME:CEST
DTSTART:19700329T020000
RRULE:FREQ=YEARLY;INTERVAL=1;BYDAY=-1SU;BYMONTH=3
END:DAYLIGHT
BEGIN:STANDARD
TZOFFSETFROM:+0200
TZOFFSETTO:+0100
TZNAME:CET
DTSTART:19701025T030000
RRULE:FREQ=YEARLY;INTERVAL=1;BYDAY=-1SU;BYMONTH=10
END:STANDARD
END:VTIMEZONE
BEGIN:VEVENT
DTSTAMP:20260424T192304
DTSTART;TZID=Europe/Berlin:20260331T090000
DTEND;TZID=Europe/Berlin:20260331T130000
UID:26-M10-20260331T090000@VHSVIERNHEIM
SUMMARY:Bilder mit Nadel und Faden Sticken (26-M10) 
LOCATION:Museum, allgemein
END:VEVENT
BEGIN:VEVENT
DTSTAMP:20260424T192304
DTSTART;TZID=Europe/Berlin:20260407T090000
DTEND;TZID=Europe/Berlin:20260407T130000
UID:26-M10-20260407T090000@VHSVIERNHEIM
SUMMARY:Bilder mit Nadel und Faden Sticken (26-M10) 
LOCATION:Museum, allgemein
END:VEVENT
END:VCALENDAR